BEGIN:VCALENDAR
VERSION:2.0
PRODID:-//jEvents 1.5 for Joomla//EN
CALSCALE:GREGORIAN
METHOD:PUBLISH
BEGIN:VEVENT

UID:88f1f56f0805c5046dd3daf3a8206893
CATEGORIES:АБК кв. 2
SUMMARY:АБК кв. 2
LOCATION:
DESCRIPTION;ENCODING=QUOTED-PRINTABLE:

DTSTAMP:20260425T143904Z
DTSTART:20230501
DTEND:20230831
SEQUENCE:0
TRANSP:OPAQUE
END:VEVENT
END:VCALENDAR