BEGIN:VCALENDAR
VERSION:2.0
PRODID:-//jEvents 1.5 for Joomla//EN
CALSCALE:GREGORIAN
METHOD:PUBLISH
BEGIN:VEVENT

UID:818cfe82f687020092da2fbacdfd1c69
CATEGORIES:АБК кв. 2
SUMMARY:АБК кв. 2
LOCATION:
DESCRIPTION;ENCODING=QUOTED-PRINTABLE:<p>Занято</p>

DTSTAMP:20260426T070426Z
DTSTART:20221010
DTEND:20221231
SEQUENCE:0
TRANSP:OPAQUE
END:VEVENT
END:VCALENDAR