BEGIN:VCALENDAR
VERSION:2.0
PRODID:-//jEvents 1.5 for Joomla//EN
CALSCALE:GREGORIAN
METHOD:PUBLISH
BEGIN:VEVENT

UID:2915a58ebade2865b8f289923059ada3
CATEGORIES:А1 кв. 5
SUMMARY:А1 кв. 5
LOCATION:
DESCRIPTION;ENCODING=QUOTED-PRINTABLE:<p>Занято</p>

DTSTAMP:20260426T070503Z
DTSTART:20221010
DTEND:20221231
SEQUENCE:0
TRANSP:OPAQUE
END:VEVENT
END:VCALENDAR